BEGIN:VCALENDAR
VERSION:2.0
PRODID:-//Tukios.com/
BEGIN:VEVENT
UID:1c3fdfe3-2f1b-467c-913d-bec9e2e4a797@www.pkfuneralhomes.com
DTSTAMP:20260424T100539Z
DTSTART:20260427T150000Z
DTEND:20260427T170000Z
SUMMARY:Memorial Visitation
DESCRIPTION:
URL:https://www.pkfuneralhomes.com/obituaries/wesley-byal
LOCATION:Prasser-Kleczka South Suburban Chapel 6080 S. 27th Street  
	Milwaukee WI 53221
GEO:42.9342161;-87.9485364
END:VEVENT
END:VCALENDAR