BEGIN:VCALENDAR
VERSION:2.0
PRODID:-//Tukios.com/
BEGIN:VEVENT
UID:9d33bc06-9e7b-4b82-801c-30b460195608@www.pkfuneralhomes.com
DTSTAMP:20260424T100323Z
DTSTART:20260427T170000Z
DTEND:20260427T180000Z
SUMMARY:Memorial Service
DESCRIPTION:
URL:https://www.pkfuneralhomes.com/obituaries/wesley-byal
LOCATION:Prasser-Kleczka South Suburban Chapel 6080 S. 27th Street  
	Milwaukee WI 53221
GEO:42.9342161;-87.9485364
END:VEVENT
END:VCALENDAR