BEGIN:VCALENDAR
VERSION:2.0
PRODID:-//Tukios.com/
BEGIN:VEVENT
UID:565ce3d5-4721-4201-ad1e-799d4fec9aad@www.pkfuneralhomes.com
DTSTAMP:20260424T101320Z
DTSTART:20260427T173000Z
DTEND:20260427T174500Z
SUMMARY:Military Honors
DESCRIPTION:
URL:https://www.pkfuneralhomes.com/obituaries/wesley-byal
LOCATION:Prasser-Kleczka South Suburban Chapel 6080 S. 27th Street  
	Milwaukee WI 53221
GEO:42.9342161;-87.9485364
END:VEVENT
END:VCALENDAR