BEGIN:VCALENDAR
VERSION:2.0
PRODID:-//Tukios.com/
BEGIN:VEVENT
UID:25c4e106-5cb4-4c78-97ea-24c9fae7c85d@www.pkfuneralhomes.com
DTSTAMP:20260423T082159Z
DTSTART:20260424T143000Z
DTEND:20260424T170000Z
SUMMARY:Visitation
DESCRIPTION:
URL:https://www.pkfuneralhomes.com/obituaries/thomas-ricco
LOCATION:St. Charles Borromeo Church  3100 W. Parnell Ave.  Milwaukee WI 
	53221
GEO:42.9427161;-87.9545396
END:VEVENT
END:VCALENDAR