BEGIN:VCALENDAR
VERSION:2.0
PRODID:-//Tukios.com/
BEGIN:VEVENT
UID:b703cca3-d1c1-4269-b255-b143d3001e1e@www.pkfuneralhomes.com
DTSTAMP:20260421T194828Z
DTSTART:20260424T170000Z
DTEND:20260424T180000Z
SUMMARY:Mass of Christian Burial
DESCRIPTION:
URL:https://www.pkfuneralhomes.com/obituaries/thomas-ricco
LOCATION:St. Charles Borromeo Church  3100 W. Parnell Ave.  Milwaukee WI 
	53221
GEO:42.9427161;-87.9545396
END:VEVENT
END:VCALENDAR