BEGIN:VCALENDAR
VERSION:2.0
PRODID:-//Tukios.com/
BEGIN:VEVENT
UID:457dfc10-a266-409a-a983-d1cd96e12e0e@www.pkfuneralhomes.com
DTSTAMP:20260423T231706Z
DTSTART:20260505T140000Z
DTEND:20260505T160000Z
SUMMARY:Visitation
DESCRIPTION:
URL:https://www.pkfuneralhomes.com/obituaries/theresa-brunke
LOCATION:St. Charles Borromeo Church  3100 W. Parnell Ave.  Milwaukee WI 
	53221
GEO:42.9427161;-87.9545396
END:VEVENT
END:VCALENDAR