BEGIN:VCALENDAR
VERSION:2.0
PRODID:-//Tukios.com/
BEGIN:VEVENT
UID:7daba330-5b27-414d-a42c-fb620b9c852f@www.pkfuneralhomes.com
DTSTAMP:20260423T230836Z
DTSTART:20260505T160000Z
DTEND:20260505T170000Z
SUMMARY:Mass of Christian Burial
DESCRIPTION:
URL:https://www.pkfuneralhomes.com/obituaries/theresa-brunke
LOCATION:St. Charles Borromeo Church  3100 W. Parnell Ave.  Milwaukee WI 
	53221
GEO:42.9427161;-87.9545396
END:VEVENT
END:VCALENDAR