BEGIN:VCALENDAR
VERSION:2.0
PRODID:-//Tukios.com/
BEGIN:VEVENT
UID:44207865-da92-4c7b-9976-d88c1086bf6c@www.pkfuneralhomes.com
DTSTAMP:20260423T231416Z
DTSTART:20260505T173000Z
DTEND:20260505T180000Z
SUMMARY:Committal Service
DESCRIPTION:
URL:https://www.pkfuneralhomes.com/obituaries/theresa-brunke
LOCATION:Arlington Park Cemetery 4141 S. 27th Street  Greenfield WI 53221
GEO:42.9695547;-87.9491158
END:VEVENT
END:VCALENDAR