BEGIN:VCALENDAR
VERSION:2.0
PRODID:-//Tukios.com/
BEGIN:VEVENT
UID:87113124-a91e-4b99-b038-4bceae18b660@www.pkfuneralhomes.com
DTSTAMP:20260420T001051Z
DTSTART:20260424T210000Z
DTEND:20260425T000000Z
SUMMARY:Visitation
DESCRIPTION:
URL:https://www.pkfuneralhomes.com/obituaries/robert-szukalski
LOCATION:Prasser-Kleczka Funeral Homes Bay View Chapel 3275 South Howell 
	Avenue  Milwaukee WI 53207
GEO:42.9851004;-87.9059349
END:VEVENT
END:VCALENDAR