BEGIN:VCALENDAR
VERSION:2.0
PRODID:-//Tukios.com/
BEGIN:VEVENT
UID:33e1525b-c6e0-4989-bfe5-01b787ddabc8@www.pkfuneralhomes.com
DTSTAMP:20260420T001051Z
DTSTART:20260425T000000Z
DTEND:20260425T010000Z
SUMMARY:Funeral Service
DESCRIPTION:
URL:https://www.pkfuneralhomes.com/obituaries/robert-szukalski
LOCATION:Prasser-Kleczka Funeral Homes Bay View Chapel 3275 South Howell 
	Avenue  Milwaukee WI 53207
GEO:42.9851004;-87.9059349
END:VEVENT
END:VCALENDAR