BEGIN:VCALENDAR
VERSION:2.0
PRODID:-//Tukios.com/
BEGIN:VEVENT
UID:a3b6373c-e479-4a14-b02c-4f344159504f@www.pkfuneralhomes.com
DTSTAMP:20260422T175221Z
DTSTART:20260429T213000Z
DTEND:20260429T233000Z
SUMMARY:Visitation
DESCRIPTION:
URL:https://www.pkfuneralhomes.com/obituaries/kathleen-harrass
LOCATION:Prasser-Kleczka South Suburban Chapel 6080 S. 27th Street  
	Milwaukee WI 53221
GEO:42.9342161;-87.9485364
END:VEVENT
END:VCALENDAR